Workbook

Sheet 1-1
A1: "СОГЛАСОВАНО" | K1: "УТВЕРЖДАЮ"
A2: КГУ "Управление образования | K2: КГУ "Управление общественного
A3: города Алматы" | K3: здравоохранения города Алматы"
A4: ______________С. Аралбаев | K4: ______________М. Пашимов
A7: Четырехнедельное меню блюд для организации бесплатного питания обучающихся в организациях среднего образования за счет бюджетных средств
A8: лето - осень 2026 год
A10: 1 неделя 1-й день
A12: Наименование блюд | B12: Выход блюда, г | E12: Ингредиенты блюда | F12: Цена | G12: Брутто, г | J12: Сумма | M12: Стоимость блюда
B13: 7-10 лет 1-4 класс | C13: 11-14 лет 5-9 класс | D13: 15-18 лет 10-11 класс | G13: 7-10 лет 1-4 класс | H13: 11-14 лет 5-9 класс | I13: 15-18 лет 10-11 класс | J13: 7-10 лет 1-4 класс | K13: 11-14 лет 5-9 класс | L13: 15-18 лет 10-11 класс | M13: 7-10 лет 1-4 класс | N13: 11-14 лет 5-9 класс | O13: 15-18 лет 10-11 класс
A14: Паста Болоньезе | B14: 200 (50/150) | C14: 220 (60/160) | D14: 250 (70/180) | E14: говядина (мякоть) | F14: 5400 | G14: 99 | H14: 121 | I14: 139 | J14: =F14*G14/1000 -> 534.6 | K14: =F14*H14/1000 -> 653.4 | L14: =F14*I14/1000 -> 750.6 | M14: =SUM(J14:J21) -> 684.129 | N14: =SUM(K14:K21) -> 813.862 | O14: =SUM(L14:L21) -> 933.189
E15: лук репчатый | F15: 211 | G15: 13 | H15: 15 | I15: 20 | J15: =F15*G15/1000 -> 2.743 | K15: =F15*H15/1000 -> 3.165 | L15: =F15*I15/1000 -> 4.22
E16: морковь | F16: 237 | G16: 13 | H16: 15 | I16: 20 | J16: =F16*G16/1000 -> 3.081 | K16: =F16*H16/1000 -> 3.555 | L16: =F16*I16/1000 -> 4.74
E17: масло растительное | F17: 922 | G17: 3 | H17: 4 | I17: 7 | J17: =F17*G17/1000 -> 2.766 | K17: =F17*H17/1000 -> 3.688 | L17: =F17*I17/1000 -> 6.454
E18: томатная паста | F18: 2180 | G18: 3 | H18: 3 | I18: 5 | J18: =F18*G18/1000 -> 6.54 | K18: =F18*H18/1000 -> 6.54 | L18: =F18*I18/1000 -> 10.9
E19: чеснок | F19: 3885 | G19: 5 | H19: 5 | I19: 5 | J19: =F19*G19/1000 -> 19.425 | K19: =F19*H19/1000 -> 19.425 | L19: =F19*I19/1000 -> 19.425
E20: соль йодированная | F20: 125 | G20: 1 | H20: 1 | I20: 1 | J20: =F20*G20/1000 -> 0.125 | K20: =F20*H20/1000 -> 0.125 | L20: =F20*I20/1000 -> 0.125
E21: спагетти | F21: 1823 | G21: 63 | H21: 68 | I21: 75 | J21: =F21*G21/1000 -> 114.849 | K21: =F21*H21/1000 -> 123.964 | L21: =F21*I21/1000 -> 136.725
A22: Чай листовой с лимоном | B22: 200 | C22: 200 | D22: 200 | E22: чай | F22: 9000 | G22: 1.5 | H22: 1.5 | I22: 1.5 | J22: =F22*G22/1000 -> 13.5 | K22: =F22*H22/1000 -> 13.5 | L22: =F22*I22/1000 -> 13.5 | M22: =SUM(J22:J25) -> 38.85 | N22: =SUM(K22:K25) -> 38.85 | O22: =SUM(L22:L25) -> 38.85
E23: сахар | F23: 465 | G23: 10 | H23: 10 | I23: 10 | J23: =F23*G23/1000 -> 4.65 | K23: =F23*H23/1000 -> 4.65 | L23: =F23*I23/1000 -> 4.65
E24: лимон | F24: 2070 | G24: 10 | H24: 10 | I24: 10 | J24: =F24*G24/1000 -> 20.7 | K24: =F24*H24/1000 -> 20.7 | L24: =F24*I24/1000 -> 20.7
E25: вода | F25: 0 | G25: 200 | H25: 200 | I25: 200 | J25: =F25*G25/1000 -> 0 | K25: =F25*H25/1000 -> 0 | L25: =F25*I25/1000 -> 0
A26: Хлеб ржано-пшеничный | B26: 20 | C26: 35 | D26: 40 | E26: хлеб ржано-пшеничный | F26: 596 | G26: 20 | H26: 35 | I26: 40 | J26: =F26*G26/1000 -> 11.92 | K26: =F26*H26/1000 -> 20.86 | L26: =F26*I26/1000 -> 23.84 | M26: =SUM(J26) -> 11.92 | N26: =SUM(K26) -> 20.86 | O26: =SUM(L26) -> 23.84
A27: Калорийность, ккал
A28: Итого цена рациона | M28: =SUM(M14:M26) -> 734.899 | N28: =SUM(N14:N26) -> 873.572 | O28: =SUM(O14:O26) -> 995.879
A29: Итого цена рациона с учетом 16% НДС | M29: =M28*1.16 -> 852.48284 | N29: =N28*1.16 -> 1013.3435 | O29: =O28*1.16 -> 1155.2196

Sheet 1-2
A3: 1 неделя 2-й день
A5: Наименование блюд | B5: Выход блюда, г | E5: Ингредиенты блюда | F5: Цена | G5: Брутто, г | J5: Сумма | M5: Стоимость блюда
B6: 7-10 лет 1-4 класс | C6: 11-14 лет 5-9 класс | D6: 15-18 лет 10-11 класс | G6: 7-10 лет 1-4 класс | H6: 11-14 лет 5-9 класс | I6: 15-18 лет 10-11 класс | J6: 7-10 лет 1-4 класс | K6: 11-14 лет 5-9 класс | L6: 15-18 лет 10-11 класс | M6: 7-10 лет 1-4 класс | N6: 11-14 лет 5-9 класс | O6: 15-18 лет 10-11 класс
A7: Куриные шарики | B7: 50 (2/25) | C7: 70 (2/35) | D7: 80 (2/40) | E7: филе курицы | F7: 2300 | G7: 60 | H7: 89 | I7: 104 | J7: =F7*G7/1000 -> 138 | K7: =F7*H7/1000 -> 204.7 | L7: =F7*I7/1000 -> 239.2 | M7: =SUM(J7:J13) -> 174.208 | N7: =SUM(K7:K13) -> 244.232 | O7: =SUM(L7:L13) -> 281.268
E8: лук репчатый | F8: 211 | G8: 9 | H8: 11 | I8: 12 | J8: =F8*G8/1000 -> 1.899 | K8: =F8*H8/1000 -> 2.321 | L8: =F8*I8/1000 -> 2.532
E9: хлеб пшеничный | F9: 577 | G9: 9 | H9: 11 | I9: 12 | J9: =F9*G9/1000 -> 5.193 | K9: =F9*H9/1000 -> 6.347 | L9: =F9*I9/1000 -> 6.924
E10: молоко 2,5% | F10: 826 | G10: 6 | H10: 7 | I10: 8 | J10: =F10*G10/1000 -> 4.956 | K10: =F10*H10/1000 -> 5.782 | L10: =F10*I10/1000 -> 6.608
E11: масло растительное | F11: 922 | G11: 5 | H11: 6 | I11: 7 | J11: =F11*G11/1000 -> 4.61 | K11: =F11*H11/1000 -> 5.532 | L11: =F11*I11/1000 -> 6.454
E12: чеснок | F12: 3885 | G12: 5 | H12: 5 | I12: 5 | J12: =F12*G12/1000 -> 19.425 | K12: =F12*H12/1000 -> 19.425 | L12: =F12*I12/1000 -> 19.425
E13: соль йодированная | F13: 125 | G13: 1 | H13: 1 | I13: 1 | J13: =F13*G13/1000 -> 0.125 | K13: =F13*H13/1000 -> 0.125 | L13: =F13*I13/1000 -> 0.125
A14: Соус основной | B14: 20 | C14: 25 | D14: 30 | E14: масло сливочное | F14: 5704 | G14: 7 | H14: 8 | I14: 8 | J14: =F14*G14/1000 -> 39.928 | K14: =F14*H14/1000 -> 45.632 | L14: =F14*I14/1000 -> 45.632 | M14: =SUM(J14:J18) -> 108.316 | N14: =SUM(K14:K18) -> 125.567 | O14: =SUM(L14:L18) -> 139.889
E15: сметана 20% | F15: 2924 | G15: 12 | H15: 15 | I15: 18 | J15: =F15*G15/1000 -> 35.088 | K15: =F15*H15/1000 -> 43.86 | L15: =F15*I15/1000 -> 52.632
E16: мука пшеничная высшего сорта | F16: 595 | G16: 5 | H16: 6 | I16: 8 | J16: =F16*G16/1000 -> 2.975 | K16: =F16*H16/1000 -> 3.57 | L16: =F16*I16/1000 -> 4.76
E17: томатная паста | F17: 2180 | G17: 5 | H17: 6 | I17: 8 | J17: =F17*G17/1000 -> 10.9 | K17: =F17*H17/1000 -> 13.08 | L17: =F17*I17/1000 -> 17.44
E18: чеснок | F18: 3885 | G18: 5 | H18: 5 | I18: 5 | J18: =F18*G18/1000 -> 19.425 | K18: =F18*H18/1000 -> 19.425 | L18: =F18*I18/1000 -> 19.425
A19: Гарнир: гречка рассыпчатая | B19: 120 | C19: 140 | D19: 170 | E19: крупа гречневая | F19: 431 | G19: 58 | H19: 67 | I19: 81 | J19: =F19*G19/1000 -> 24.998 | K19: =F19*H19/1000 -> 28.877 | L19: =F19*I19/1000 -> 34.911 | M19: =SUM(J19:J20) -> 53.518 | N19: =SUM(K19:K20) -> 63.101 | O19: =SUM(L19:L20) -> 74.839
E20: масло сливочное | F20: 5704 | G20: 5 | H20: 6 | I20: 7 | J20: =F20*G20/1000 -> 28.52 | K20: =F20*H20/1000 -> 34.224 | L20: =F20*I20/1000 -> 39.928
A21: Компот из смеси сухофруктов | B21: 200 | C21: 200 | D21: 200 | E21: сухофрукты | F21: 1100 | G21: 20 | H21: 20 | I21: 20 | J21: =F21*G21/1000 -> 22 | K21: =F21*H21/1000 -> 22 | L21: =F21*I21/1000 -> 22 | M21: =SUM(J21:J23) -> 26.65 | N21: =SUM(K21:K23) -> 26.65 | O21: =SUM(L21:L23) -> 26.65
E22: сахар | F22: 465 | G22: 10 | H22: 10 | I22: 10 | J22: =F22*G22/1000 -> 4.65 | K22: =F22*H22/1000 -> 4.65 | L22: =F22*I22/1000 -> 4.65
E23: вода | F23: 0 | G23: 200 | H23: 200 | I23: 200 | J23: =F23*G23/1000 -> 0 | K23: =F23*H23/1000 -> 0 | L23: =F23*I23/1000 -> 0
A24: Хлеб ржано-пшеничный | B24: 20 | C24: 35 | D24: 40 | E24: хлеб ржано-пшеничный | F24: 596 | G24: 20 | H24: 35 | I24: 40 | J24: =F24*G24/1000 -> 11.92 | K24: =F24*H24/1000 -> 20.86 | L24: =F24*I24/1000 -> 23.84 | M24: =SUM(J24) -> 11.92 | N24: =SUM(K24) -> 20.86 | O24: =SUM(L24) -> 23.84
A25: Калорийность, ккал
A26: Итого цена рациона | M26: =SUM(M7:M24) -> 374.612 | N26: =SUM(N7:N24) -> 480.41 | O26: =SUM(O7:O24) -> 546.486
A27: Итого цена рациона с учетом 16% НДС | M27: =M26*1.16 -> 434.54992 | N27: =N26*1.16 -> 557.2756 | O27: =O26*1.16 -> 633.92376

Sheet 1-3
A3: 1 неделя 3-й день
A5: Наименование блюд | B5: Выход блюда, г | E5: Ингредиенты блюда | F5: Цена | G5: Брутто, г | J5: Сумма | M5: Стоимость блюда
B6: 7-10 лет 1-4 класс | C6: 11-14 лет 5-9 класс | D6: 15-18 лет 10-11 класс | G6: 7-10 лет 1-4 класс | H6: 11-14 лет 5-9 класс | I6: 15-18 лет 10-11 класс | J6: 7-10 лет 1-4 класс | K6: 11-14 лет 5-9 класс | L6: 15-18 лет 10-11 класс | M6: 7-10 лет 1-4 класс | N6: 11-14 лет 5-9 класс | O6: 15-18 лет 10-11 класс
A7: Ролл с говядиной | B7: 150 (40/110) | C7: 150 (40/110) | D7: 150 (40/110) | E7: мясо говядины (мякоть) | F7: 5400 | G7: 75 | H7: 75 | I7: 75 | J7: =F7*G7/1000 -> 405 | K7: =F7*H7/1000 -> 405 | L7: =F7*I7/1000 -> 405 | M7: =SUM(J7:J11) -> 669.577 | N7: =SUM(K7:K11) -> 669.577 | O7: =SUM(L7:L11) -> 669.577
E8: лаваш | F8: 2757 | G8: 55 | H8: 55 | I8: 55 | J8: =F8*G8/1000 -> 151.635 | K8: =F8*H8/1000 -> 151.635 | L8: =F8*I8/1000 -> 151.635
E9: масло сливочное | F9: 5704 | G9: 14 | H9: 14 | I9: 14 | J9: =F9*G9/1000 -> 79.856 | K9: =F9*H9/1000 -> 79.856 | L9: =F9*I9/1000 -> 79.856
E10: огурцы свежие | F10: 700 | G10: 16 | H10: 16 | I10: 16 | J10: =F10*G10/1000 -> 11.2 | K10: =F10*H10/1000 -> 11.2 | L10: =F10*I10/1000 -> 11.2
E11: капуста пекинская | F11: 706 | G11: 31 | H11: 31 | I11: 31 | J11: =F11*G11/1000 -> 21.886 | K11: =F11*H11/1000 -> 21.886 | L11: =F11*I11/1000 -> 21.886
A12: Каркаде | B12: 200 | C12: 200 | D12: 200 | E12: каркаде | F12: 7000 | G12: 1 | H12: 1 | I12: 1 | J12: =F12*G12/1000 -> 7 | K12: =F12*H12/1000 -> 7 | L12: =F12*I12/1000 -> 7 | M12: =SUM(J12:J14) -> 11.65 | N12: =SUM(K12:K14) -> 11.65 | O12: =SUM(L12:L14) -> 11.65
E13: сахар | F13: 465 | G13: 10 | H13: 10 | I13: 10 | J13: =F13*G13/1000 -> 4.65 | K13: =F13*H13/1000 -> 4.65 | L13: =F13*I13/1000 -> 4.65
E14: вода | F14: 0 | G14: 200 | H14: 200 | I14: 200 | J14: =F14*G14/1000 -> 0 | K14: =F14*H14/1000 -> 0 | L14: =F14*I14/1000 -> 0
A15: Яблоко | B15: 120 | C15: 120 | D15: 120 | E15: яблоко | F15: 819 | G15: 120 | H15: 120 | I15: 120 | J15: =F15*G15/1000 -> 98.28 | K15: =F15*H15/1000 -> 98.28 | L15: =F15*I15/1000 -> 98.28 | M15: =SUM(J15) -> 98.28 | N15: =SUM(K15) -> 98.28 | O15: =SUM(L15) -> 98.28
A16: Калорийность, ккал
A17: Итого цена рациона | M17: =SUM(M7:M15) -> 779.507 | N17: =SUM(N7:N15) -> 779.507 | O17: =SUM(O7:O15) -> 779.507
A18: Итого цена рациона с учетом 16% НДС | M18: =M17*1.16 -> 904.22812 | N18: =N17*1.16 -> 904.22812 | O18: =O17*1.16 -> 904.22812

Sheet 1-4
A3: 1 неделя 4-й день
A5: Наименование блюд | B5: Выход блюда, г | E5: Ингредиенты блюда | F5: Цена | G5: Брутто, г | J5: Сумма | M5: Стоимость блюда
B6: 7-10 лет 1-4 класс | C6: 11-14 лет 5-9 класс | D6: 15-18 лет 10-11 класс | G6: 7-10 лет 1-4 класс | H6: 11-14 лет 5-9 класс | I6: 15-18 лет 10-11 класс | J6: 7-10 лет 1-4 класс | K6: 11-14 лет 5-9 класс | L6: 15-18 лет 10-11 класс | M6: 7-10 лет 1-4 класс | N6: 11-14 лет 5-9 класс | O6: 15-18 лет 10-11 класс
A7: Рыбные палочки с соусом | B7: (100)50/50 | C7: (125)75/50 | D7: (125)75/50 | E7: филе судака | F7: 4000 | G7: 85 | H7: 133 | I7: 133 | J7: =F7*G7/1000 -> 340 | K7: =F7*H7/1000 -> 532 | L7: =F7*I7/1000 -> 532 | M7: =SUM(J7:J18) -> 484.687 | N7: =SUM(K7:K18) -> 676.687 | O7: =SUM(L7:L18) -> 676.687
E8: мука пшеничная высшего сорта | F8: 595 | G8: 3 | H8: 3 | I8: 3 | J8: =F8*G8/1000 -> 1.785 | K8: =F8*H8/1000 -> 1.785 | L8: =F8*I8/1000 -> 1.785
E9: сухари панировочные | F9: 1235 | G9: 15 | H9: 15 | I9: 15 | J9: =F9*G9/1000 -> 18.525 | K9: =F9*H9/1000 -> 18.525 | L9: =F9*I9/1000 -> 18.525
E10: яйцо куриное | F10: 689 | G10: 7 | H10: 7 | I10: 7 | J10: =F10*G10/1000 -> 4.823 | K10: =F10*H10/1000 -> 4.823 | L10: =F10*I10/1000 -> 4.823
E11: соус белый основной | F11: 0 | G11: 50 | H11: 50 | I11: 50 | J11: =F11*G11/1000 -> 0 | K11: =F11*H11/1000 -> 0 | L11: =F11*I11/1000 -> 0
E12: сметана 20% | F12: 2924 | G12: 20 | H12: 20 | I12: 20 | J12: =F12*G12/1000 -> 58.48 | K12: =F12*H12/1000 -> 58.48 | L12: =F12*I12/1000 -> 58.48
E13: бульон | F13: 0 | G13: 55 | H13: 55 | I13: 55 | J13: =F13*G13/1000 -> 0 | K13: =F13*H13/1000 -> 0 | L13: =F13*I13/1000 -> 0
E14: масло сливочное | F14: 5704 | G14: 5 | H14: 5 | I14: 5 | J14: =F14*G14/1000 -> 28.52 | K14: =F14*H14/1000 -> 28.52 | L14: =F14*I14/1000 -> 28.52
E15: мука пшеничная высшего сорта | F15: 595 | G15: 3 | H15: 3 | I15: 3 | J15: =F15*G15/1000 -> 1.785 | K15: =F15*H15/1000 -> 1.785 | L15: =F15*I15/1000 -> 1.785
E16: лук репчатый | F16: 211 | G16: 4 | H16: 4 | I16: 4 | J16: =F16*G16/1000 -> 0.844 | K16: =F16*H16/1000 -> 0.844 | L16: =F16*I16/1000 -> 0.844
E17: петрушка | F17: 2100 | G17: 5 | H17: 5 | I17: 5 | J17: =F17*G17/1000 -> 10.5 | K17: =F17*H17/1000 -> 10.5 | L17: =F17*I17/1000 -> 10.5
E18: чеснок | F18: 3885 | G18: 5 | H18: 5 | I18: 5 | J18: =F18*G18/1000 -> 19.425 | K18: =F18*H18/1000 -> 19.425 | L18: =F18*I18/1000 -> 19.425
A19: Гарнир: макароны отварные | B19: 120 | C19: 140 | D19: 170 | E19: макароны | F19: 785 | G19: 43 | H19: 50 | I19: 61 | J19: =F19*G19/1000 -> 33.755 | K19: =F19*H19/1000 -> 39.25 | L19: =F19*I19/1000 -> 47.885 | M19: =SUM(J19:J20) -> 62.275 | N19: =SUM(K19:K20) -> 73.474 | O19: =SUM(L19:L20) -> 87.813
E20: масло сливочное | F20: 5704 | G20: 5 | H20: 6 | I20: 7 | J20: =F20*G20/1000 -> 28.52 | K20: =F20*H20/1000 -> 34.224 | L20: =F20*I20/1000 -> 39.928
A21: Компот из свежих яблок | B21: 200 | C21: 200 | D21: 200 | E21: яблоки свежие | F21: 819 | G21: 143 | H21: 143 | I21: 143 | J21: =F21*G21/1000 -> 117.117 | K21: =F21*H21/1000 -> 117.117 | L21: =F21*I21/1000 -> 117.117 | M21: =SUM(J21:J23) -> 121.767 | N21: =SUM(K21:K23) -> 121.767 | O21: =SUM(L21:L23) -> 121.767
E22: сахар | F22: 465 | G22: 10 | H22: 10 | I22: 10 | J22: =F22*G22/1000 -> 4.65 | K22: =F22*H22/1000 -> 4.65 | L22: =F22*I22/1000 -> 4.65
E23: вода | F23: 0 | G23: 120 | H23: 120 | I23: 120 | J23: =F23*G23/1000 -> 0 | K23: =F23*H23/1000 -> 0 | L23: =F23*I23/1000 -> 0
A24: Хлеб ржано-пшеничный | B24: 20 | C24: 35 | D24: 40 | E24: хлеб ржано-пшеничный | F24: 596 | G24: 20 | H24: 35 | I24: 40 | J24: =F24*G24/1000 -> 11.92 | K24: =F24*H24/1000 -> 20.86 | L24: =F24*I24/1000 -> 23.84 | M24: =SUM(J24:J24) -> 11.92 | N24: =SUM(K24) -> 20.86 | O24: =SUM(L24) -> 23.84
A25: Калорийность, ккал
A26: Итого цена рациона | M26: =SUM(M7:M24) -> 680.649 | N26: =SUM(N7:N24) -> 892.788 | O26: =SUM(O7:O24) -> 910.107
A27: Итого цена рациона с учетом 16% НДС | M27: =M26*1.16 -> 789.55284 | N27: =N26*1.16 -> 1035.6341 | O27: =O26*1.16 -> 1055.7241

Sheet 1-5
A3: 1 неделя 5-й день
A5: Наименование блюд | B5: Выход блюда, г | E5: Ингредиенты блюда | F5: Цена | G5: Брутто, г | J5: Сумма | M5: Стоимость блюда
B6: 7-10 лет 1-4 класс | C6: 11-14 лет 5-9 класс | D6: 15-18 лет 10-11 класс | G6: 7-10 лет 1-4 класс | H6: 11-14 лет 5-9 класс | I6: 15-18 лет 10-11 класс | J6: 7-10 лет 1-4 класс | K6: 11-14 лет 5-9 класс | L6: 15-18 лет 10-11 класс | M6: 7-10 лет 1-4 класс | N6: 11-14 лет 5-9 класс | O6: 15-18 лет 10-11 класс
A7: Плов с говядиной | B7: 200 (40/160) | C7: 200 (40/160) | D7: 200 (40/160) | E7: говядина (мякоть) | F7: 5400 | G7: 81 | H7: 81 | I7: 81 | J7: =F7*G7/1000 -> 437.4 | K7: =F7*H7/1000 -> 437.4 | L7: =F7*I7/1000 -> 437.4 | M7: =SUM(J7:J12) -> 476.522 | N7: =SUM(K7:K12) -> 476.522 | O7: =SUM(L7:L12) -> 476.522
E8: крупа рисовая | F8: 566 | G8: 50 | H8: 50 | I8: 50 | J8: =F8*G8/1000 -> 28.3 | K8: =F8*H8/1000 -> 28.3 | L8: =F8*I8/1000 -> 28.3
E9: масло растительное | F9: 922 | G9: 5 | H9: 5 | I9: 5 | J9: =F9*G9/1000 -> 4.61 | K9: =F9*H9/1000 -> 4.61 | L9: =F9*I9/1000 -> 4.61
E10: лук репчатый | F10: 211 | G10: 12 | H10: 12 | I10: 12 | J10: =F10*G10/1000 -> 2.532 | K10: =F10*H10/1000 -> 2.532 | L10: =F10*I10/1000 -> 2.532
E11: морковь | F11: 237 | G11: 15 | H11: 15 | I11: 15 | J11: =F11*G11/1000 -> 3.555 | K11: =F11*H11/1000 -> 3.555 | L11: =F11*I11/1000 -> 3.555
E12: соль йодированная | F12: 125 | G12: 1 | H12: 1 | I12: 1 | J12: =F12*G12/1000 -> 0.125 | K12: =F12*H12/1000 -> 0.125 | L12: =F12*I12/1000 -> 0.125
A13: Какао на молоке | B13: 200 | C13: 200 | D13: 200 | E13: какао порошок | F13: 6000 | G13: 4 | H13: 4 | I13: 4 | J13: =F13*G13/1000 -> 24 | K13: =F13*H13/1000 -> 24 | L13: =F13*I13/1000 -> 24 | M13: =SUM(J13:J16) -> 111.25 | N13: =SUM(K13:K16) -> 111.25 | O13: =SUM(L13:L16) -> 111.25
E14: молоко 2,5% | F14: 826 | G14: 100 | H14: 100 | I14: 100 | J14: =F14*G14/1000 -> 82.6 | K14: =F14*H14/1000 -> 82.6 | L14: =F14*I14/1000 -> 82.6
E15: вода | F15: 0 | G15: 110 | H15: 110 | I15: 110 | J15: =F15*G15/1000 -> 0 | K15: =F15*H15/1000 -> 0 | L15: =F15*I15/1000 -> 0
E16: сахар | F16: 465 | G16: 10 | H16: 10 | I16: 10 | J16: =F16*G16/1000 -> 4.65 | K16: =F16*H16/1000 -> 4.65 | L16: =F16*I16/1000 -> 4.65
A17: Яблоко | B17: 120 | C17: 120 | D17: 120 | E17: яблоко | F17: 819 | G17: 120 | H17: 120 | I17: 120 | J17: =F17*G17/1000 -> 98.28 | K17: =F17*H17/1000 -> 98.28 | L17: =F17*I17/1000 -> 98.28 | M17: =SUM(J17) -> 98.28 | N17: =SUM(K17) -> 98.28 | O17: =SUM(L17) -> 98.28
A18: Хлеб ржано-пшеничный | B18: 20 | C18: 35 | D18: 40 | E18: хлеб ржано-пшеничный | F18: 596 | G18: 20 | H18: 35 | I18: 40 | J18: =F18*G18/1000 -> 11.92 | K18: =F18*H18/1000 -> 20.86 | L18: =F18*I18/1000 -> 23.84 | M18: =SUM(J18:J18) -> 11.92 | N18: =SUM(K18) -> 20.86 | O18: =SUM(L18) -> 23.84
A19: Калорийность, ккал
A20: Итого цена рациона | M20: =SUM(M7:M18) -> 697.972 | N20: =SUM(N7:N18) -> 706.912 | O20: =SUM(O7:O18) -> 709.892
A21: Итого цена рациона с учетом 16% НДС | M21: =M20*1.16 -> 809.64752 | N21: =N20*1.16 -> 820.01792 | O21: =O20*1.16 -> 823.47472
A22: Средняя цена рациона за неделю | M22: =('1-1'!M28+'1-2'!M26+'1-4'!M26+'1-3'!M17+'1-5'!M20)/5 -> 653.5278 | N22: =('1-1'!N28+'1-2'!N26+'1-4'!N26+'1-3'!N17+'1-5'!N20)/5 -> 746.6378 | O22: =('1-1'!O28+'1-2'!O26+'1-4'!O26+'1-3'!O17+'1-5'!O20)/5 -> 788.3742
A23: Средняя цена рациона с учетом 16% НДС | M23: =M22*1.16 -> 758.09225 | N23: =N22*1.16 -> 866.09985 | O23: =O22*1.16 -> 914.51407

Sheet 2-1
A3: 2 неделя 1-й день
A5: Наименование блюд | B5: Выход блюда, г | E5: Ингредиенты блюда | F5: Цена | G5: Брутто, г | J5: Сумма | M5: Стоимость блюда
B6: 7-10 лет 1-4 класс | C6: 11-14 лет 5-9 класс | D6: 15-18 лет 10-11 класс | G6: 7-10 лет 1-4 класс | H6: 11-14 лет 5-9 класс | I6: 15-18 лет 10-11 класс | J6: 7-10 лет 1-4 класс | K6: 11-14 лет 5-9 класс | L6: 15-18 лет 10-11 класс | M6: 7-10 лет 1-4 класс | N6: 11-14 лет 5-9 класс | O6: 15-18 лет 10-11 класс
A7: Мясо тушеное с овощами | B7: 40 | C7: 60 | D7: 80 | E7: говядина (мякоть) | F7: 5400 | G7: 81 | H7: 121 | I7: 161 | J7: =F7*G7/1000 -> 437.4 | K7: =F7*H7/1000 -> 653.4 | L7: =F7*I7/1000 -> 869.4 | M7: =SUM(J7:J14) -> 527.357 | N7: =SUM(K7:K14) -> 760.616 | O7: =SUM(L7:L14) -> 989.308
E8: морковь | F8: 237 | G8: 6 | H8: 8 | I8: 9 | J8: =F8*G8/1000 -> 1.422 | K8: =F8*H8/1000 -> 1.896 | L8: =F8*I8/1000 -> 2.133
E9: лук репчатый | F9: 211 | G9: 6 | H9: 8 | I9: 9 | J9: =F9*G9/1000 -> 1.266 | K9: =F9*H9/1000 -> 1.688 | L9: =F9*I9/1000 -> 1.899
E10: масло сливочное | F10: 5704 | G10: 6 | H10: 8 | I10: 9 | J10: =F10*G10/1000 -> 34.224 | K10: =F10*H10/1000 -> 45.632 | L10: =F10*I10/1000 -> 51.336
E11: мука пшеничная высшего сорта | F11: 595 | G11: 5 | H11: 6 | I11: 6 | J11: =F11*G11/1000 -> 2.975 | K11: =F11*H11/1000 -> 3.57 | L11: =F11*I11/1000 -> 3.57
E12: томатная паста | F12: 2180 | G12: 14 | H12: 16 | I12: 19 | J12: =F12*G12/1000 -> 30.52 | K12: =F12*H12/1000 -> 34.88 | L12: =F12*I12/1000 -> 41.42
E13: чеснок | F13: 3885 | G13: 5 | H13: 5 | I13: 5 | J13: =F13*G13/1000 -> 19.425 | K13: =F13*H13/1000 -> 19.425 | L13: =F13*I13/1000 -> 19.425
E14: соль йодированная | F14: 125 | G14: 1 | H14: 1 | I14: 1 | J14: =F14*G14/1000 -> 0.125 | K14: =F14*H14/1000 -> 0.125 | L14: =F14*I14/1000 -> 0.125
A15: Гарнир: рис припущенный | B15: 120 | C15: 140 | D15: 170 | E15: крупа рисовая | F15: 566 | G15: 45 | H15: 52 | I15: 63 | J15: =F15*G15/1000 -> 25.47 | K15: =F15*H15/1000 -> 29.432 | L15: =F15*I15/1000 -> 35.658 | M15: =SUM(J15:J17) -> 53.99 | N15: =SUM(K15:K17) -> 63.656 | O15: =SUM(L15:L17) -> 75.586
E16: масло сливочное | F16: 5704 | G16: 5 | H16: 6 | I16: 7 | J16: =F16*G16/1000 -> 28.52 | K16: =F16*H16/1000 -> 34.224 | L16: =F16*I16/1000 -> 39.928
E17: бульон | F17: 0 | G17: 87 | H17: 101 | I17: 122 | J17: =F17*G17/1000 -> 0 | K17: =F17*H17/1000 -> 0 | L17: =F17*I17/1000 -> 0
A18: Каркаде | B18: 200 | C18: 200 | D18: 200 | E18: каркаде | F18: 7000 | G18: 1 | H18: 1 | I18: 1 | J18: =F18*G18/1000 -> 7 | K18: =F18*H18/1000 -> 7 | L18: =F18*I18/1000 -> 7 | M18: =SUM(J18:J20) -> 11.65 | N18: =SUM(K18:K20) -> 11.65 | O18: =SUM(L18:L20) -> 11.65
E19: сахар | F19: 465 | G19: 10 | H19: 10 | I19: 10 | J19: =F19*G19/1000 -> 4.65 | K19: =F19*H19/1000 -> 4.65 | L19: =F19*I19/1000 -> 4.65
E20: вода | F20: 0 | G20: 200 | H20: 200 | I20: 200 | J20: =F20*G20/1000 -> 0 | K20: =F20*H20/1000 -> 0 | L20: =F20*I20/1000 -> 0
A21: Хлеб ржано-пшеничный | B21: 20 | C21: 35 | D21: 40 | E21: хлеб ржано-пшеничный | F21: 596 | G21: 20 | H21: 35 | I21: 40 | J21: =F21*G21/1000 -> 11.92 | K21: =F21*H21/1000 -> 20.86 | L21: =F21*I21/1000 -> 23.84 | M21: =SUM(J21:J21) -> 11.92 | N21: =SUM(K21) -> 20.86 | O21: =SUM(L21) -> 23.84
A22: Калорийность, ккал
A23: Итого цена рациона | M23: =SUM(M7:M21) -> 604.917 | N23: =SUM(N7:N21) -> 856.782 | O23: =SUM(O7:O21) -> 1100.384
A24: Итого цена рациона с учетом 16% НДС | M24: =M23*1.16 -> 701.70372 | N24: =N23*1.16 -> 993.86712 | O24: =O23*1.16 -> 1276.4454

Sheet 2-2
A3: 2 неделя 2-й день
A5: Наименование блюд | B5: Выход блюда, г | E5: Ингредиенты блюда | F5: Цена | G5: Брутто, г | J5: Сумма | M5: Стоимость блюда
B6: 7-10 лет 1-4 класс | C6: 11-14 лет 5-9 класс | D6: 15-18 лет 10-11 класс | G6: 7-10 лет 1-4 класс | H6: 11-14 лет 5-9 класс | I6: 15-18 лет 10-11 класс | J6: 7-10 лет 1-4 класс | K6: 11-14 лет 5-9 класс | L6: 15-18 лет 10-11 класс | M6: 7-10 лет 1-4 класс | N6: 11-14 лет 5-9 класс | O6: 15-18 лет 10-11 класс
A7: Паста Болоньезе | B7: 200 (50/150) | C7: 220 (60/160) | D7: 250 (70/180) | E7: грудка индейки | F7: 3700 | G7: 83 | H7: 100 | I7: 115 | J7: =F7*G7/1000 -> 307.1 | K7: =F7*H7/1000 -> 370 | L7: =F7*I7/1000 -> 425.5 | M7: =SUM(J7:J14) -> 456.629 | N7: =SUM(K7:K14) -> 530.462 | O7: =SUM(L7:L14) -> 608.089
E8: лук репчатый | F8: 211 | G8: 13 | H8: 15 | I8: 20 | J8: =F8*G8/1000 -> 2.743 | K8: =F8*H8/1000 -> 3.165 | L8: =F8*I8/1000 -> 4.22
E9: морковь | F9: 237 | G9: 13 | H9: 15 | I9: 20 | J9: =F9*G9/1000 -> 3.081 | K9: =F9*H9/1000 -> 3.555 | L9: =F9*I9/1000 -> 4.74
E10: масло растительное | F10: 922 | G10: 3 | H10: 4 | I10: 7 | J10: =F10*G10/1000 -> 2.766 | K10: =F10*H10/1000 -> 3.688 | L10: =F10*I10/1000 -> 6.454
E11: томатная паста | F11: 2180 | G11: 3 | H11: 3 | I11: 5 | J11: =F11*G11/1000 -> 6.54 | K11: =F11*H11/1000 -> 6.54 | L11: =F11*I11/1000 -> 10.9
E12: чеснок | F12: 3885 | G12: 5 | H12: 5 | I12: 5 | J12: =F12*G12/1000 -> 19.425 | K12: =F12*H12/1000 -> 19.425 | L12: =F12*I12/1000 -> 19.425
E13: соль йодированная | F13: 125 | G13: 1 | H13: 1 | I13: 1 | J13: =F13*G13/1000 -> 0.125 | K13: =F13*H13/1000 -> 0.125 | L13: =F13*I13/1000 -> 0.125
E14: спагетти | F14: 1823 | G14: 63 | H14: 68 | I14: 75 | J14: =F14*G14/1000 -> 114.849 | K14: =F14*H14/1000 -> 123.964 | L14: =F14*I14/1000 -> 136.725
A15: Компот из свежих яблок | B15: 200 | C15: 200 | D15: 200 | E15: яблоки свежие | F15: 819 | G15: 143 | H15: 143 | I15: 143 | J15: =F15*G15/1000 -> 117.117 | K15: =F15*H15/1000 -> 117.117 | L15: =F15*I15/1000 -> 117.117 | M15: =SUM(J15:J17) -> 121.767 | N15: =SUM(K15:K17) -> 121.767 | O15: =SUM(L15:L17) -> 121.767
E16: сахар | F16: 465 | G16: 10 | H16: 10 | I16: 10 | J16: =F16*G16/1000 -> 4.65 | K16: =F16*H16/1000 -> 4.65 | L16: =F16*I16/1000 -> 4.65
E17: вода | F17: 0 | G17: 120 | H17: 120 | I17: 120 | J17: =F17*G17/1000 -> 0 | K17: =F17*H17/1000 -> 0 | L17: =F17*I17/1000 -> 0
A18: Яблоко | B18: 120 | C18: 120 | D18: 120 | E18: яблоко | F18: 819 | G18: 120 | H18: 120 | I18: 120 | J18: =F18*G18/1000 -> 98.28 | K18: =F18*H18/1000 -> 98.28 | L18: =F18*I18/1000 -> 98.28 | M18: =SUM(J18) -> 98.28 | N18: =SUM(K18) -> 98.28 | O18: =SUM(L18) -> 98.28
A19: Хлеб ржано-пшеничный | B19: 20 | C19: 35 | D19: 40 | E19: хлеб ржано-пшеничный | F19: 596 | G19: 20 | H19: 35 | I19: 40 | J19: =F19*G19/1000 -> 11.92 | K19: =F19*H19/1000 -> 20.86 | L19: =F19*I19/1000 -> 23.84 | M19: =SUM(J19:J19) -> 11.92 | N19: =SUM(K19) -> 20.86 | O19: =SUM(L19) -> 23.84
A20: Калорийность, ккал
A21: Итого цена рациона | M21: =SUM(M7:M19) -> 688.596 | N21: =SUM(N7:N19) -> 771.369 | O21: =SUM(O7:O19) -> 851.976
A22: Итого цена рациона с учетом 16% НДС | M22: =M21*1.16 -> 798.77136 | N22: =N21*1.16 -> 894.78804 | O22: =O21*1.16 -> 988.29216

Sheet 2-3
A3: 2 неделя 3-й день
A5: Наименование блюд | B5: Выход блюда, г | E5: Ингредиенты блюда | F5: Цена | G5: Брутто, г | J5: Сумма | M5: Стоимость блюда
B6: 7-10 лет 1-4 класс | C6: 11-14 лет 5-9 класс | D6: 15-18 лет 10-11 класс | G6: 7-10 лет 1-4 класс | H6: 11-14 лет 5-9 класс | I6: 15-18 лет 10-11 класс | J6: 7-10 лет 1-4 класс | K6: 11-14 лет 5-9 класс | L6: 15-18 лет 10-11 класс | M6: 7-10 лет 1-4 класс | N6: 11-14 лет 5-9 класс | O6: 15-18 лет 10-11 класс
A7: Гречка по купечески | B7: 180 (40/140) | C7: 180 (40/140) | D7: 180 (40/140) | E7: говядина (мякоть) | F7: 5400 | G7: 81 | H7: 81 | I7: 81 | J7: =F7*G7/1000 -> 437.4 | K7: =F7*H7/1000 -> 437.4 | L7: =F7*I7/1000 -> 437.4 | M7: =SUM(J7:J14) -> 509.4515 | N7: =SUM(K7:K14) -> 509.4515 | O7: =SUM(L7:L14) -> 509.4515
E8: крупа гречневая | F8: 431 | G8: 48 | H8: 48 | I8: 48 | J8: =F8*G8/1000 -> 20.688 | K8: =F8*H8/1000 -> 20.688 | L8: =F8*I8/1000 -> 20.688
E9: масло растительное | F9: 922 | G9: 5 | H9: 5 | I9: 5 | J9: =F9*G9/1000 -> 4.61 | K9: =F9*H9/1000 -> 4.61 | L9: =F9*I9/1000 -> 4.61
E10: лук репчатый | F10: 211 | G10: 35 | H10: 35 | I10: 35 | J10: =F10*G10/1000 -> 7.385 | K10: =F10*H10/1000 -> 7.385 | L10: =F10*I10/1000 -> 7.385
E11: морковь | F11: 237 | G11: 38 | H11: 38 | I11: 38 | J11: =F11*G11/1000 -> 9.006 | K11: =F11*H11/1000 -> 9.006 | L11: =F11*I11/1000 -> 9.006
E12: томатная паста | F12: 2180 | G12: 5 | H12: 5 | I12: 5 | J12: =F12*G12/1000 -> 10.9 | K12: =F12*H12/1000 -> 10.9 | L12: =F12*I12/1000 -> 10.9
E13: чеснок | F13: 3885 | G13: 5 | H13: 5 | I13: 5 | J13: =F13*G13/1000 -> 19.425 | K13: =F13*H13/1000 -> 19.425 | L13: =F13*I13/1000 -> 19.425
E14: соль йодированная | F14: 125 | G14: 0.3 | H14: 0.3 | I14: 0.3 | J14: =F14*G14/1000 -> 0.0375 | K14: =F14*H14/1000 -> 0.0375 | L14: =F14*I14/1000 -> 0.0375
A15: Напиток лимонно - яблочный | B15: 200 | C15: 200 | D15: 200 | E15: лимон | F15: 2070 | G15: 15 | H15: 15 | I15: 15 | J15: =F15*G15/1000 -> 31.05 | K15: =F15*H15/1000 -> 31.05 | L15: =F15*I15/1000 -> 31.05 | M15: =SUM(J15:J18) -> 116.781 | N15: =SUM(K15:K18) -> 116.781 | O15: =SUM(L15:L18) -> 116.781
E16: яблоко | F16: 819 | G16: 99 | H16: 99 | I16: 99 | J16: =F16*G16/1000 -> 81.081 | K16: =F16*H16/1000 -> 81.081 | L16: =F16*I16/1000 -> 81.081
E17: сахар | F17: 465 | G17: 10 | H17: 10 | I17: 10 | J17: =F17*G17/1000 -> 4.65 | K17: =F17*H17/1000 -> 4.65 | L17: =F17*I17/1000 -> 4.65
E18: вода | F18: 0 | G18: 150 | H18: 150 | I18: 150 | J18: =F18*G18/1000 -> 0 | K18: =F18*H18/1000 -> 0 | L18: =F18*I18/1000 -> 0
A19: Хлеб ржано-пшеничный | B19: 20 | C19: 35 | D19: 40 | E19: хлеб ржано-пшеничный | F19: 596 | G19: 20 | H19: 35 | I19: 40 | J19: =F19*G19/1000 -> 11.92 | K19: =F19*H19/1000 -> 20.86 | L19: =F19*I19/1000 -> 23.84 | M19: =SUM(J19:J19) -> 11.92 | N19: =SUM(K19) -> 20.86 | O19: =SUM(L19) -> 23.84
A20: Калорийность, ккал
A21: Итого цена рациона | M21: =SUM(M7:M19) -> 638.1525 | N21: =SUM(N7:N19) -> 647.0925 | O21: =SUM(O7:O19) -> 650.0725
A22: Итого цена рациона с учетом 16% НДС | M22: =M21*1.16 -> 740.2569 | N22: =N21*1.16 -> 750.6273 | O22: =O21*1.16 -> 754.0841

Sheet 2-4
A3: 2 неделя 4-й день
A5: Наименование блюд | B5: Выход блюда, г | E5: Ингредиенты блюда | F5: Цена | G5: Брутто, г | J5: Сумма | M5: Стоимость блюда
B6: 7-10 лет 1-4 класс | C6: 11-14 лет 5-9 класс | D6: 15-18 лет 10-11 класс | G6: 7-10 лет 1-4 класс | H6: 11-14 лет 5-9 класс | I6: 15-18 лет 10-11 класс | J6: 7-10 лет 1-4 класс | K6: 11-14 лет 5-9 класс | L6: 15-18 лет 10-11 класс | M6: 7-10 лет 1-4 класс | N6: 11-14 лет 5-9 класс | O6: 15-18 лет 10-11 класс
A7: Ролл с курицей | B7: 150 (40/110) | C7: 150 (40/110) | D7: 150 (40/110) | E7: филе курицы | F7: 3700 | G7: 60 | H7: 60 | I7: 60 | J7: =F7*G7/1000 -> 222 | K7: =F7*H7/1000 -> 222 | L7: =F7*I7/1000 -> 222 | M7: =SUM(J7:J12) -> 487.7345 | N7: =SUM(K7:K12) -> 487.7345 | O7: =SUM(L7:L12) -> 487.7345
E8: лаваш | F8: 2757 | G8: 55 | H8: 55 | I8: 55 | J8: =F8*G8/1000 -> 151.635 | K8: =F8*H8/1000 -> 151.635 | L8: =F8*I8/1000 -> 151.635
E9: масло сливочное | F9: 5704 | G9: 14 | H9: 14 | I9: 14 | J9: =F9*G9/1000 -> 79.856 | K9: =F9*H9/1000 -> 79.856 | L9: =F9*I9/1000 -> 79.856
E10: огурцы свежие | F10: 770 | G10: 16 | H10: 16 | I10: 16 | J10: =F10*G10/1000 -> 12.32 | K10: =F10*H10/1000 -> 12.32 | L10: =F10*I10/1000 -> 12.32
E11: капуста пекинская | F11: 706 | G11: 31 | H11: 31 | I11: 31 | J11: =F11*G11/1000 -> 21.886 | K11: =F11*H11/1000 -> 21.886 | L11: =F11*I11/1000 -> 21.886
E12: соль йодированная | F12: 125 | G12: 0.3 | H12: 0.3 | I12: 0.3 | J12: =F12*G12/1000 -> 0.0375 | K12: =F12*H12/1000 -> 0.0375 | L12: =F12*I12/1000 -> 0.0375
A13: Компот из смеси сухофруктов | B13: 200 | C13: 200 | D13: 200 | E13: сухофрукты | F13: 1100 | G13: 20 | H13: 20 | I13: 20 | J13: =F13*G13/1000 -> 22 | K13: =F13*H13/1000 -> 22 | L13: =F13*I13/1000 -> 22 | M13: =SUM(J13:J14) -> 26.65 | N13: =SUM(K13:K14) -> 26.65 | O13: =SUM(L13:L14) -> 26.65
E14: сахар | F14: 465 | G14: 10 | H14: 10 | I14: 10 | J14: =F14*G14/1000 -> 4.65 | K14: =F14*H14/1000 -> 4.65 | L14: =F14*I14/1000 -> 4.65
E15: вода | F15: 0 | G15: 200 | H15: 200 | I15: 200 | J15: =F15*G15/1000 -> 0 | K15: =F15*H15/1000 -> 0 | L15: =F15*I15/1000 -> 0
A16: Яблоко | B16: 120 | C16: 120 | D16: 120 | E16: яблоко | F16: 819 | G16: 120 | H16: 120 | I16: 120 | J16: =F16*G16/1000 -> 98.28 | K16: =F16*H16/1000 -> 98.28 | L16: =F16*I16/1000 -> 98.28 | M16: =SUM(J16) -> 98.28 | N16: =SUM(K16) -> 98.28 | O16: =SUM(L16) -> 98.28
A17: Калорийность, ккал
A19: Итого цена рациона | M19: =SUM(M7:M16) -> 612.6645 | N19: =SUM(N7:N16) -> 612.6645 | O19: =SUM(O7:O16) -> 612.6645
A20: Итого цена рациона с учетом 16% НДС | M20: =M19*1.16 -> 710.69082 | N20: =N19*1.16 -> 710.69082 | O20: =O19*1.16 -> 710.69082

Sheet 2-5
A3: 2 неделя 5-й день
A5: Наименование блюд | B5: Выход блюда, г | E5: Ингредиенты блюда | F5: Цена | G5: Брутто, г | J5: Сумма | M5: Стоимость блюда
B6: 7-10 лет 1-4 класс | C6: 11-14 лет 5-9 класс | D6: 15-18 лет 10-11 класс | G6: 7-10 лет 1-4 класс | H6: 11-14 лет 5-9 класс | I6: 15-18 лет 10-11 класс | J6: 7-10 лет 1-4 класс | K6: 11-14 лет 5-9 класс | L6: 15-18 лет 10-11 класс | M6: 7-10 лет 1-4 класс | N6: 11-14 лет 5-9 класс | O6: 15-18 лет 10-11 класс
A7: Мясо по казахски | B7: 240 (40/100/100) | C7: 240 (40/100/100) | D7: 250 (50/100/100) | E7: говядина (мякоть) | F7: 5400 | G7: 75 | H7: 75 | I7: 91 | J7: =F7*G7/1000 -> 405 | K7: =F7*H7/1000 -> 405 | L7: =F7*I7/1000 -> 491.4 | M7: =SUM(J7:J11) -> 510.938 | N7: =SUM(K7:K11) -> 510.938 | O7: =SUM(L7:L11) -> 597.338
E8: соль йодированная | F8: 125 | G8: 1 | H8: 1 | I8: 1 | J8: =F8*G8/1000 -> 0.125 | K8: =F8*H8/1000 -> 0.125 | L8: =F8*I8/1000 -> 0.125
E9: лук репчатый | F9: 211 | G9: 15 | H9: 15 | I9: 15 | J9: =F9*G9/1000 -> 3.165 | K9: =F9*H9/1000 -> 3.165 | L9: =F9*I9/1000 -> 3.165
E10: бульон | F10: 0 | G10: 100 | H10: 100 | I10: 100 | J10: =F10*G10/1000 -> 0 | K10: =F10*H10/1000 -> 0 | L10: =F10*I10/1000 -> 0
E11: сочни | F11: 1833 | G11: 56 | H11: 56 | I11: 56 | J11: =F11*G11/1000 -> 102.648 | K11: =F11*H11/1000 -> 102.648 | L11: =F11*I11/1000 -> 102.648
A12: Чай листовой с лимоном | B12: 200 | C12: 200 | D12: 200 | E12: чай | F12: 9000 | G12: 1.5 | H12: 1.5 | I12: 1.5 | J12: =F12*G12/1000 -> 13.5 | K12: =F12*H12/1000 -> 13.5 | L12: =F12*I12/1000 -> 13.5 | M12: =SUM(J12:J15) -> 38.85 | N12: =SUM(K12:K15) -> 38.85 | O12: =SUM(L12:L15) -> 38.85
E13: сахар | F13: 465 | G13: 10 | H13: 10 | I13: 10 | J13: =F13*G13/1000 -> 4.65 | K13: =F13*H13/1000 -> 4.65 | L13: =F13*I13/1000 -> 4.65
E14: лимон | F14: 2070 | G14: 10 | H14: 10 | I14: 10 | J14: =F14*G14/1000 -> 20.7 | K14: =F14*H14/1000 -> 20.7 | L14: =F14*I14/1000 -> 20.7
E15: вода | F15: 0 | G15: 200 | H15: 200 | I15: 200 | J15: =F15*G15/1000 -> 0 | K15: =F15*H15/1000 -> 0 | L15: =F15*I15/1000 -> 0
A16: Хлеб ржано-пшеничный | B16: 20 | C16: 35 | D16: 40 | E16: хлеб ржано-пшеничный | F16: 596 | G16: 20 | H16: 35 | I16: 40 | J16: =F16*G16/1000 -> 11.92 | K16: =F16*H16/1000 -> 20.86 | L16: =F16*I16/1000 -> 23.84 | M16: =SUM(J16:J16) -> 11.92 | N16: =SUM(K16) -> 20.86 | O16: =SUM(L16) -> 23.84
A17: Калорийность, ккал
A18: Итого цена рациона | M18: =SUM(M7:M16) -> 561.708 | N18: =SUM(N7:N16) -> 570.648 | O18: =SUM(O7:O16) -> 660.028
A19: Итого цена рациона с учетом 16% НДС | M19: =M18*1.16 -> 651.58128 | N19: =N18*1.16 -> 661.95168 | O19: =O18*1.16 -> 765.63248
A20: Средняя цена рациона за неделю | M20: =('2-1'!M23+'2-2'!M21+'2-3'!M21+'2-4'!M19+'2-5'!M18)/5 -> 621.2076 | N20: =('2-1'!N23+'2-2'!N21+'2-3'!N21+'2-4'!N19+'2-5'!N18)/5 -> 691.7112 | O20: =('2-1'!O23+'2-2'!O21+'2-3'!O21+'2-4'!O19+'2-5'!O18)/5 -> 775.025
A21: Средняя цена рациона с учетом 16% НДС | M21: =M20*1.16 -> 720.60082 | N21: =N20*1.16 -> 802.38499 | O21: =O20*1.16 -> 899.029

Sheet 3-1
A3: 3 неделя 1-й день
A5: Наименование блюд | B5: Выход блюда, г | E5: Ингредиенты блюда | F5: Цена | G5: Брутто, г | J5: Сумма | M5: Стоимость блюда
B6: 7-10 лет 1-4 класс | C6: 11-14 лет 5-9 класс | D6: 15-18 лет 10-11 класс | G6: 7-10 лет 1-4 класс | H6: 11-14 лет 5-9 класс | I6: 15-18 лет 10-11 класс | J6: 7-10 лет 1-4 класс | K6: 11-14 лет 5-9 класс | L6: 15-18 лет 10-11 класс | M6: 7-10 лет 1-4 класс | N6: 11-14 лет 5-9 класс | O6: 15-18 лет 10-11 класс
A7: Куриные палочки | B7: 50 | C7: 70 | D7: 80 | E7: филе курицы | F7: 2300 | G7: 75 | H7: 105 | I7: 120 | J7: =F7*G7/1000 -> 172.5 | K7: =F7*H7/1000 -> 241.5 | L7: =F7*I7/1000 -> 276 | M7: =SUM(J7:J17) -> 364.271 | N7: =SUM(K7:K17) -> 465.218 | O7: =SUM(L7:L17) -> 526.517
E8: сметана 20% | F8: 2924 | G8: 15 | H8: 17 | I8: 20 | J8: =F8*G8/1000 -> 43.86 | K8: =F8*H8/1000 -> 49.708 | L8: =F8*I8/1000 -> 58.48
E9: яйцо куриное | F9: 689 | G9: 5 | H9: 7 | I9: 7 | J9: =F9*G9/1000 -> 3.445 | K9: =F9*H9/1000 -> 4.823 | L9: =F9*I9/1000 -> 4.823
E10: сухари панировочные | F10: 1235 | G10: 15 | H10: 17 | I10: 20 | J10: =F10*G10/1000 -> 18.525 | K10: =F10*H10/1000 -> 20.995 | L10: =F10*I10/1000 -> 24.7
E11: картофельный крахмал | F11: 2500 | G11: 7 | H11: 9 | I11: 9 | J11: =F11*G11/1000 -> 17.5 | K11: =F11*H11/1000 -> 22.5 | L11: =F11*I11/1000 -> 22.5
E12: соль йодированная | F12: 125 | G12: 1 | H12: 1 | I12: 1 | J12: =F12*G12/1000 -> 0.125 | K12: =F12*H12/1000 -> 0.125 | L12: =F12*I12/1000 -> 0.125
A13: Соус основной | B13: 20 | C13: 25 | D13: 30 | E13: масло сливочное | F13: 5704 | G13: 7 | H13: 8 | I13: 8 | J13: =F13*G13/1000 -> 39.928 | K13: =F13*H13/1000 -> 45.632 | L13: =F13*I13/1000 -> 45.632
E14: сметана 20% | F14: 2924 | G14: 12 | H14: 15 | I14: 18 | J14: =F14*G14/1000 -> 35.088 | K14: =F14*H14/1000 -> 43.86 | L14: =F14*I14/1000 -> 52.632
E15: мука пшеничная высшего сорта | F15: 595 | G15: 5 | H15: 6 | I15: 8 | J15: =F15*G15/1000 -> 2.975 | K15: =F15*H15/1000 -> 3.57 | L15: =F15*I15/1000 -> 4.76
E16: томатная паста | F16: 2180 | G16: 5 | H16: 6 | I16: 8 | J16: =F16*G16/1000 -> 10.9 | K16: =F16*H16/1000 -> 13.08 | L16: =F16*I16/1000 -> 17.44
E17: чеснок | F17: 3885 | G17: 5 | H17: 5 | I17: 5 | J17: =F17*G17/1000 -> 19.425 | K17: =F17*H17/1000 -> 19.425 | L17: =F17*I17/1000 -> 19.425
A18: Гарнир: гречка рассыпчатая | B18: 120 | C18: 140 | D18: 170 | E18: крупа гречневая | F18: 431 | G18: 58 | H18: 67 | I18: 81 | J18: =F18*G18/1000 -> 24.998 | K18: =F18*H18/1000 -> 28.877 | L18: =F18*I18/1000 -> 34.911 | M18: =SUM(J18:J19) -> 53.518 | N18: =SUM(K18:K19) -> 63.101 | O18: =SUM(L18:L19) -> 74.839
E19: масло сливочное | F19: 5704 | G19: 5 | H19: 6 | I19: 7 | J19: =F19*G19/1000 -> 28.52 | K19: =F19*H19/1000 -> 34.224 | L19: =F19*I19/1000 -> 39.928
A20: Каркаде | B20: 200 | C20: 200 | D20: 200 | E20: каркаде | F20: 7000 | G20: 1 | H20: 1 | I20: 1 | J20: =F20*G20/1000 -> 7 | K20: =F20*H20/1000 -> 7 | L20: =F20*I20/1000 -> 7 | M20: =SUM(J20:J22) -> 11.65 | N20: =SUM(K20:K22) -> 11.65 | O20: =SUM(L20:L22) -> 11.65
E21: сахар | F21: 465 | G21: 10 | H21: 10 | I21: 10 | J21: =F21*G21/1000 -> 4.65 | K21: =F21*H21/1000 -> 4.65 | L21: =F21*I21/1000 -> 4.65
E22: вода | F22: 0 | G22: 200 | H22: 200 | I22: 200 | J22: =F22*G22/1000 -> 0 | K22: =F22*H22/1000 -> 0 | L22: =F22*I22/1000 -> 0
A23: Яблоко | B23: 120 | C23: 120 | D23: 120 | E23: яблоко | F23: 819 | G23: 120 | H23: 120 | I23: 120 | J23: =F23*G23/1000 -> 98.28 | K23: =F23*H23/1000 -> 98.28 | L23: =F23*I23/1000 -> 98.28 | M23: =SUM(J23) -> 98.28 | N23: =SUM(K23) -> 98.28 | O23: =SUM(L23) -> 98.28
A24: Хлеб ржано-пшеничный | B24: 20 | C24: 35 | D24: 40 | E24: хлеб ржано-пшеничный | F24: 596 | G24: 20 | H24: 35 | I24: 40 | J24: =F24*G24/1000 -> 11.92 | K24: =F24*H24/1000 -> 20.86 | L24: =F24*I24/1000 -> 23.84 | M24: =SUM(J24:J24) -> 11.92 | N24: =SUM(K24) -> 20.86 | O24: =SUM(L24) -> 23.84
A25: Калорийность, ккал
A27: Итого цена рациона | M27: =SUM(M7:M24) -> 539.639 | N27: =SUM(N7:N24) -> 659.109 | O27: =SUM(O7:O24) -> 735.126
A28: Итого цена рациона с учетом 16% НДС | M28: =M27*1.16 -> 625.98124 | N28: =N27*1.16 -> 764.56644 | O28: =O27*1.16 -> 852.74616

Sheet 3-2
A3: 3 неделя 2-й день
A5: Наименование блюд | B5: Выход блюда, г | E5: Ингредиенты блюда | F5: Цена | G5: Брутто, г | J5: Сумма | M5: Стоимость блюда
B6: 7-10 лет 1-4 класс | C6: 11-14 лет 5-9 класс | D6: 15-18 лет 10-11 класс | G6: 7-10 лет 1-4 класс | H6: 11-14 лет 5-9 класс | I6: 15-18 лет 10-11 класс | J6: 7-10 лет 1-4 класс | K6: 11-14 лет 5-9 класс | L6: 15-18 лет 10-11 класс | M6: 7-10 лет 1-4 класс | N6: 11-14 лет 5-9 класс | O6: 15-18 лет 10-11 класс
A7: Мясо тушеное в сметанном соусе | B7: 40 | C7: 60 | D7: 80 | E7: говядина (мякоть) | F7: 5400 | G7: 81 | H7: 121 | I7: 161 | J7: =F7*G7/1000 -> 437.4 | K7: =F7*H7/1000 -> 653.4 | L7: =F7*I7/1000 -> 869.4 | M7: =SUM(J7:J12) -> 522.671 | N7: =SUM(K7:K12) -> 752.939 | O7: =SUM(L7:L12) -> 981.901
E8: лук репчатый | F8: 211 | G8: 35 | H8: 40 | I8: 46 | J8: =F8*G8/1000 -> 7.385 | K8: =F8*H8/1000 -> 8.44 | L8: =F8*I8/1000 -> 9.706
E9: масло растительное | F9: 922 | G9: 5 | H9: 6 | I9: 6 | J9: =F9*G9/1000 -> 4.61 | K9: =F9*H9/1000 -> 5.532 | L9: =F9*I9/1000 -> 5.532
E10: мука пшеничная | F10: 595 | G10: 5 | H10: 6 | I10: 6 | J10: =F10*G10/1000 -> 2.975 | K10: =F10*H10/1000 -> 3.57 | L10: =F10*I10/1000 -> 3.57
E11: сметана 20% | F11: 2924 | G11: 24 | H11: 28 | I11: 32 | J11: =F11*G11/1000 -> 70.176 | K11: =F11*H11/1000 -> 81.872 | L11: =F11*I11/1000 -> 93.568
E12: соль йодированная | F12: 125 | G12: 1 | H12: 1 | I12: 1 | J12: =F12*G12/1000 -> 0.125 | K12: =F12*H12/1000 -> 0.125 | L12: =F12*I12/1000 -> 0.125
A13: Гарнир: рис припущенный | B13: 120 | C13: 140 | D13: 170 | E13: крупа рисовая | F13: 566 | G13: 45 | H13: 52 | I13: 63 | J13: =F13*G13/1000 -> 25.47 | K13: =F13*H13/1000 -> 29.432 | L13: =F13*I13/1000 -> 35.658 | M13: =SUM(J13:J15) -> 53.99 | N13: =SUM(K13:K15) -> 63.656 | O13: =SUM(L13:L15) -> 75.586
E14: масло сливочное | F14: 5704 | G14: 5 | H14: 6 | I14: 7 | J14: =F14*G14/1000 -> 28.52 | K14: =F14*H14/1000 -> 34.224 | L14: =F14*I14/1000 -> 39.928
E15: бульон | F15: 0 | G15: 87 | H15: 101 | I15: 122 | J15: =F15*G15/1000 -> 0 | K15: =F15*H15/1000 -> 0 | L15: =F15*I15/1000 -> 0
A16: Чай листовой с лимоном | B16: 200 | C16: 200 | D16: 200 | E16: чай | F16: 9000 | G16: 1.5 | H16: 1.5 | I16: 1.5 | J16: =F16*G16/1000 -> 13.5 | K16: =F16*H16/1000 -> 13.5 | L16: =F16*I16/1000 -> 13.5 | M16: =SUM(J16:J19) -> 38.85 | N16: =SUM(K16:K19) -> 38.85 | O16: =SUM(L16:L19) -> 38.85
E17: сахар | F17: 465 | G17: 10 | H17: 10 | I17: 10 | J17: =F17*G17/1000 -> 4.65 | K17: =F17*H17/1000 -> 4.65 | L17: =F17*I17/1000 -> 4.65
E18: лимон | F18: 2070 | G18: 10 | H18: 10 | I18: 10 | J18: =F18*G18/1000 -> 20.7 | K18: =F18*H18/1000 -> 20.7 | L18: =F18*I18/1000 -> 20.7
E19: вода | F19: 0 | G19: 200 | H19: 200 | I19: 200 | J19: =F19*G19/1000 -> 0 | K19: =F19*H19/1000 -> 0 | L19: =F19*I19/1000 -> 0
A20: Хлеб ржано-пшеничный | B20: 20 | C20: 35 | D20: 40 | E20: хлеб ржано-пшеничный | F20: 596 | G20: 20 | H20: 35 | I20: 40 | J20: =F20*G20/1000 -> 11.92 | K20: =F20*H20/1000 -> 20.86 | L20: =F20*I20/1000 -> 23.84 | M20: =SUM(J20:J20) -> 11.92 | N20: =SUM(K20) -> 20.86 | O20: =SUM(L20) -> 23.84
A21: Калорийность, ккал
A23: Итого цена рациона | M23: =SUM(M7:M20) -> 627.431 | N23: =SUM(N7:N20) -> 876.305 | O23: =SUM(O7:O20) -> 1120.177
A24: Итого цена рациона с учетом 16% НДС | M24: =M23*1.16 -> 727.81996 | N24: =N23*1.16 -> 1016.5138 | O24: =O23*1.16 -> 1299.4053

Sheet 3-3
A3: 3 неделя 3-й день
A5: Наименование блюд | B5: Выход блюда, г | E5: Ингредиенты блюда | F5: Цена | G5: Брутто, г | J5: Сумма | M5: Стоимость блюда
B6: 7-10 лет 1-4 класс | C6: 11-14 лет 5-9 класс | D6: 15-18 лет 10-11 класс | G6: 7-10 лет 1-4 класс | H6: 11-14 лет 5-9 класс | I6: 15-18 лет 10-11 класс | J6: 7-10 лет 1-4 класс | K6: 11-14 лет 5-9 класс | L6: 15-18 лет 10-11 класс | M6: 7-10 лет 1-4 класс | N6: 11-14 лет 5-9 класс | O6: 15-18 лет 10-11 класс
A7: Куриные шарики | B7: 50 (2/25) | C7: 70 (2/35) | D7: 80 (2/40) | E7: филе курицы | F7: 2300 | G7: 60 | H7: 89 | I7: 104 | J7: =F7*G7/1000 -> 138 | K7: =F7*H7/1000 -> 204.7 | L7: =F7*I7/1000 -> 239.2 | M7: =SUM(J7:J13) -> 174.208 | N7: =SUM(K7:K13) -> 244.232 | O7: =SUM(L7:L13) -> 281.268
E8: лук репчатый | F8: 211 | G8: 9 | H8: 11 | I8: 12 | J8: =F8*G8/1000 -> 1.899 | K8: =F8*H8/1000 -> 2.321 | L8: =F8*I8/1000 -> 2.532
E9: хлеб пшеничный | F9: 577 | G9: 9 | H9: 11 | I9: 12 | J9: =F9*G9/1000 -> 5.193 | K9: =F9*H9/1000 -> 6.347 | L9: =F9*I9/1000 -> 6.924
E10: молоко 2,5% | F10: 826 | G10: 6 | H10: 7 | I10: 8 | J10: =F10*G10/1000 -> 4.956 | K10: =F10*H10/1000 -> 5.782 | L10: =F10*I10/1000 -> 6.608
E11: масло растительное | F11: 922 | G11: 5 | H11: 6 | I11: 7 | J11: =F11*G11/1000 -> 4.61 | K11: =F11*H11/1000 -> 5.532 | L11: =F11*I11/1000 -> 6.454
E12: чеснок | F12: 3885 | G12: 5 | H12: 5 | I12: 5 | J12: =F12*G12/1000 -> 19.425 | K12: =F12*H12/1000 -> 19.425 | L12: =F12*I12/1000 -> 19.425
E13: соль йодированная | F13: 125 | G13: 1 | H13: 1 | I13: 1 | J13: =F13*G13/1000 -> 0.125 | K13: =F13*H13/1000 -> 0.125 | L13: =F13*I13/1000 -> 0.125
A14: Соус основной | B14: 20 | C14: 25 | D14: 30 | E14: масло сливочное | F14: 5704 | G14: 7 | H14: 8 | I14: 8 | J14: =F14*G14/1000 -> 39.928 | K14: =F14*H14/1000 -> 45.632 | L14: =F14*I14/1000 -> 45.632 | M14: =SUM(J14:J18) -> 108.316 | N14: =SUM(K14:K18) -> 125.567 | O14: =SUM(L14:L18) -> 139.889
E15: сметана 20% | F15: 2924 | G15: 12 | H15: 15 | I15: 18 | J15: =F15*G15/1000 -> 35.088 | K15: =F15*H15/1000 -> 43.86 | L15: =F15*I15/1000 -> 52.632
E16: мука пшеничная высшего сорта | F16: 595 | G16: 5 | H16: 6 | I16: 8 | J16: =F16*G16/1000 -> 2.975 | K16: =F16*H16/1000 -> 3.57 | L16: =F16*I16/1000 -> 4.76
E17: томатная паста | F17: 2180 | G17: 5 | H17: 6 | I17: 8 | J17: =F17*G17/1000 -> 10.9 | K17: =F17*H17/1000 -> 13.08 | L17: =F17*I17/1000 -> 17.44
E18: чеснок | F18: 3885 | G18: 5 | H18: 5 | I18: 5 | J18: =F18*G18/1000 -> 19.425 | K18: =F18*H18/1000 -> 19.425 | L18: =F18*I18/1000 -> 19.425
A19: Гарнир: макароны отварные | B19: 120 | C19: 140 | D19: 170 | E19: макароны | F19: 785 | G19: 43 | H19: 50 | I19: 61 | J19: =F19*G19/1000 -> 33.755 | K19: =F19*H19/1000 -> 39.25 | L19: =F19*I19/1000 -> 47.885 | M19: =SUM(J19:J20) -> 62.275 | N19: =SUM(K19:K20) -> 73.474 | O19: =SUM(L19:L20) -> 87.813
E20: масло сливочное | F20: 5704 | G20: 5 | H20: 6 | I20: 7 | J20: =F20*G20/1000 -> 28.52 | K20: =F20*H20/1000 -> 34.224 | L20: =F20*I20/1000 -> 39.928
A21: Компот из яблок и кураги | B21: 200 | C21: 200 | D21: 200 | E21: яблоки свежие | F21: 819 | G21: 123 | H21: 123 | I21: 123 | J21: =F21*G21/1000 -> 100.737 | K21: =F21*H21/1000 -> 100.737 | L21: =F21*I21/1000 -> 100.737 | M21: =SUM(J21:J24) -> 169.887 | N21: =SUM(K21:K24) -> 169.887 | O21: =SUM(L21:L24) -> 169.887
E22: курага | F22: 4300 | G22: 15 | H22: 15 | I22: 15 | J22: =F22*G22/1000 -> 64.5 | K22: =F22*H22/1000 -> 64.5 | L22: =F22*I22/1000 -> 64.5
E23: сахар | F23: 465 | G23: 10 | H23: 10 | I23: 10 | J23: =F23*G23/1000 -> 4.65 | K23: =F23*H23/1000 -> 4.65 | L23: =F23*I23/1000 -> 4.65
E24: вода | F24: 0 | G24: 200 | H24: 200 | I24: 200 | J24: =F24*G24/1000 -> 0 | K24: =F24*H24/1000 -> 0 | L24: =F24*I24/1000 -> 0
A25: Хлеб ржано-пшеничный | B25: 20 | C25: 35 | D25: 40 | E25: хлеб ржано-пшеничный | F25: 596 | G25: 20 | H25: 35 | I25: 40 | J25: =F25*G25/1000 -> 11.92 | K25: =F25*H25/1000 -> 20.86 | L25: =F25*I25/1000 -> 23.84 | M25: =SUM(J25:J25) -> 11.92 | N25: =SUM(K25) -> 20.86 | O25: =SUM(L25) -> 23.84
A26: Калорийность, ккал
A27: Итого цена рациона | M27: =SUM(M7:M25) -> 526.606 | N27: =SUM(N7:N25) -> 634.02 | O27: =SUM(O7:O25) -> 702.697
A28: Итого цена рациона с учетом 16% НДС | M28: =M27*1.16 -> 610.86296 | N28: =N27*1.16 -> 735.4632 | O28: =O27*1.16 -> 815.12852

Sheet 3-4
A3: 3 неделя 4-й день
A5: Наименование блюд | B5: Выход блюда, г | E5: Ингредиенты блюда | F5: Цена | G5: Брутто, г | J5: Сумма | M5: Стоимость блюда
B6: 7-10 лет 1-4 класс | C6: 11-14 лет 5-9 класс | D6: 15-18 лет 10-11 класс | G6: 7-10 лет 1-4 класс | H6: 11-14 лет 5-9 класс | I6: 15-18 лет 10-11 класс | J6: 7-10 лет 1-4 класс | K6: 11-14 лет 5-9 класс | L6: 15-18 лет 10-11 класс | M6: 7-10 лет 1-4 класс | N6: 11-14 лет 5-9 класс | O6: 15-18 лет 10-11 класс
A7: Ролл с рыбой | B7: 150 (40/110) | C7: 150 (40/110) | D7: 150 (40/110) | E7: филе судака | F7: 4000 | G7: 67 | H7: 67 | I7: 67 | J7: =F7*G7/1000 -> 268 | K7: =F7*H7/1000 -> 268 | L7: =F7*I7/1000 -> 268 | M7: =SUM(J7:J14) -> 488.3135 | N7: =SUM(K7:K14) -> 488.276 | O7: =SUM(L7:L14) -> 488.3135
E8: лаваш | F8: 2757 | G8: 55 | H8: 55 | I8: 55 | J8: =F8*G8/1000 -> 151.635 | K8: =F8*H8/1000 -> 151.635 | L8: =F8*I8/1000 -> 151.635
E9: яйцо куриное | F9: 689 | G9: 5 | H9: 5 | I9: 5 | J9: =F9*G9/1000 -> 3.445 | K9: =F9*H9/1000 -> 3.445 | L9: =F9*I9/1000 -> 3.445
E10: огурцы свежие | F10: 770 | G10: 16 | H10: 16 | I10: 16 | J10: =F10*G10/1000 -> 12.32 | K10: =F10*H10/1000 -> 12.32 | L10: =F10*I10/1000 -> 12.32
E11: масло сливочное | F11: 5704 | G11: 5 | H11: 5 | I11: 5 | J11: =F11*G11/1000 -> 28.52 | K11: =F11*H11/1000 -> 28.52 | L11: =F11*I11/1000 -> 28.52
E12: пекинская капуста | F12: 706 | G12: 31 | H12: 31 | I12: 31 | J12: =F12*G12/1000 -> 21.886 | K12: =F12*H12/1000 -> 21.886 | L12: =F12*I12/1000 -> 21.886
E13: панировочные сухари | F13: 1235 | G13: 2 | H13: 2 | I13: 2 | J13: =F13*G13/1000 -> 2.47 | K13: =F13*H13/1000 -> 2.47 | L13: =F13*I13/1000 -> 2.47
E14: йодированная соль | F14: 125 | G14: 0.3 | H14: 0 | I14: 0.3 | J14: =F14*G14/1000 -> 0.0375 | K14: =F14*H14/1000 -> 0 | L14: =F14*I14/1000 -> 0.0375
A15: Компот из свежих яблок | B15: 200 | C15: 200 | D15: 200 | E15: яблоки свежие | F15: 819 | G15: 143 | H15: 143 | I15: 143 | J15: =F15*G15/1000 -> 117.117 | K15: =F15*H15/1000 -> 117.117 | L15: =F15*I15/1000 -> 117.117 | M15: =SUM(J15:J17) -> 121.767 | N15: =SUM(K15:K17) -> 121.767 | O15: =SUM(L15:L17) -> 121.767
E16: сахар | F16: 465 | G16: 10 | H16: 10 | I16: 10 | J16: =F16*G16/1000 -> 4.65 | K16: =F16*H16/1000 -> 4.65 | L16: =F16*I16/1000 -> 4.65
E17: вода | F17: 0 | G17: 120 | H17: 120 | I17: 120 | J17: =F17*G17/1000 -> 0 | K17: =F17*H17/1000 -> 0 | L17: =F17*I17/1000 -> 0
A18: Яблоко | B18: 120 | C18: 120 | D18: 120 | E18: яблоко | F18: 819 | G18: 120 | H18: 120 | I18: 120 | J18: =F18*G18/1000 -> 98.28 | K18: =F18*H18/1000 -> 98.28 | L18: =F18*I18/1000 -> 98.28 | M18: =SUM(J18) -> 98.28 | N18: =SUM(K18) -> 98.28 | O18: =SUM(L18) -> 98.28
A19: Калорийность, ккал
A20: Итого цена рациона | M20: =SUM(M7:M18) -> 708.3605 | N20: =SUM(N7:N18) -> 708.323 | O20: =SUM(O7:O18) -> 708.3605
A21: Итого цена рациона с учетом 16% НДС | M21: =M20*1.16 -> 821.69818 | N21: =N20*1.16 -> 821.65468 | O21: =O20*1.16 -> 821.69818

Sheet 3-5
A3: 3 неделя 5-й день
A5: Наименование блюд | B5: Выход блюда, г | E5: Ингредиенты блюда | F5: Цена | G5: Брутто, г | J5: Сумма | M5: Стоимость блюда
B6: 7-10 лет 1-4 класс | C6: 11-14 лет 5-9 класс | D6: 15-18 лет 10-11 класс | G6: 7-10 лет 1-4 класс | H6: 11-14 лет 5-9 класс | I6: 15-18 лет 10-11 класс | J6: 7-10 лет 1-4 класс | K6: 11-14 лет 5-9 класс | L6: 15-18 лет 10-11 класс | M6: 7-10 лет 1-4 класс | N6: 11-14 лет 5-9 класс | O6: 15-18 лет 10-11 класс
A7: Плов с говядиной | B7: 200 (40/160) | C7: 200 (40/160) | D7: 200 (40/160) | E7: говядина (мякоть) | F7: 5400 | G7: 81 | H7: 81 | I7: 81 | J7: =F7*G7/1000 -> 437.4 | K7: =F7*H7/1000 -> 437.4 | L7: =F7*I7/1000 -> 437.4 | M7: =SUM(J7:J12) -> 476.522 | N7: =SUM(K7:K12) -> 476.522 | O7: =SUM(L7:L12) -> 476.522
E8: крупа рисовая | F8: 566 | G8: 50 | H8: 50 | I8: 50 | J8: =F8*G8/1000 -> 28.3 | K8: =F8*H8/1000 -> 28.3 | L8: =F8*I8/1000 -> 28.3
E9: масло растительное | F9: 922 | G9: 5 | H9: 5 | I9: 5 | J9: =F9*G9/1000 -> 4.61 | K9: =F9*H9/1000 -> 4.61 | L9: =F9*I9/1000 -> 4.61
E10: лук репчатый | F10: 211 | G10: 12 | H10: 12 | I10: 12 | J10: =F10*G10/1000 -> 2.532 | K10: =F10*H10/1000 -> 2.532 | L10: =F10*I10/1000 -> 2.532
E11: морковь | F11: 237 | G11: 15 | H11: 15 | I11: 15 | J11: =F11*G11/1000 -> 3.555 | K11: =F11*H11/1000 -> 3.555 | L11: =F11*I11/1000 -> 3.555
E12: соль йодированная | F12: 125 | G12: 1 | H12: 1 | I12: 1 | J12: =F12*G12/1000 -> 0.125 | K12: =F12*H12/1000 -> 0.125 | L12: =F12*I12/1000 -> 0.125
A13: Напиток лимонно - яблочный | B13: 200 | C13: 200 | D13: 200 | E13: лимон | F13: 2070 | G13: 15 | H13: 15 | I13: 15 | J13: =F13*G13/1000 -> 31.05 | K13: =F13*H13/1000 -> 31.05 | L13: =F13*I13/1000 -> 31.05 | M13: =SUM(J13:J16) -> 116.781 | N13: =SUM(K13:K16) -> 116.781 | O13: =SUM(L13:L16) -> 116.781
E14: яблоко | F14: 819 | G14: 99 | H14: 99 | I14: 99 | J14: =F14*G14/1000 -> 81.081 | K14: =F14*H14/1000 -> 81.081 | L14: =F14*I14/1000 -> 81.081
E15: сахар | F15: 465 | G15: 10 | H15: 10 | I15: 10 | J15: =F15*G15/1000 -> 4.65 | K15: =F15*H15/1000 -> 4.65 | L15: =F15*I15/1000 -> 4.65
E16: вода | F16: 0 | G16: 150 | H16: 150 | I16: 150 | J16: =F16*G16/1000 -> 0 | K16: =F16*H16/1000 -> 0 | L16: =F16*I16/1000 -> 0
A17: Хлеб ржано-пшеничный | B17: 20 | C17: 35 | D17: 40 | E17: хлеб ржано-пшеничный | F17: 596 | G17: 20 | H17: 35 | I17: 40 | J17: =F17*G17/1000 -> 11.92 | K17: =F17*H17/1000 -> 20.86 | L17: =F17*I17/1000 -> 23.84 | M17: =SUM(J17:J17) -> 11.92 | N17: =SUM(K17) -> 20.86 | O17: =SUM(L17) -> 23.84
A18: Калорийность, ккал
A19: Итого цена рациона | M19: =SUM(M7:M17) -> 605.223 | N19: =SUM(N7:N17) -> 614.163 | O19: =SUM(O7:O17) -> 617.143
A20: Итого цена рациона с учетом 16% НДС | M20: =M19*1.16 -> 702.05868 | N20: =N19*1.16 -> 712.42908 | O20: =O19*1.16 -> 715.88588
A21: Средняя цена рациона за неделю | M21: =('3-1'!M27+'3-2'!M23+'3-3'!M27+'3-4'!M20+'3-5'!M19)/5 -> 601.4519 | N21: =('3-1'!N27+'3-2'!N23+'3-3'!N27+'3-4'!N20+'3-5'!N19)/5 -> 698.384 | O21: =('3-1'!O27+'3-2'!O23+'3-3'!O27+'3-4'!O20+'3-5'!O19)/5 -> 776.7007
A22: Средняя цена рациона с учетом 16% НДС | M22: =M21*1.16 -> 697.6842 | N22: =N21*1.16 -> 810.12544 | O22: =O21*1.16 -> 900.97281

Sheet 4-1
A3: 4 неделя 1-й день
A5: Наименование блюд | B5: Выход блюда, г | E5: Ингредиенты блюда | F5: Цена | G5: Брутто, г | J5: Сумма | M5: Стоимость блюда
B6: 7-10 лет 1-4 класс | C6: 11-14 лет 5-9 класс | D6: 15-18 лет 10-11 класс | G6: 7-10 лет 1-4 класс | H6: 11-14 лет 5-9 класс | I6: 15-18 лет 10-11 класс | J6: 7-10 лет 1-4 класс | K6: 11-14 лет 5-9 класс | L6: 15-18 лет 10-11 класс | M6: 7-10 лет 1-4 класс | N6: 11-14 лет 5-9 класс | O6: 15-18 лет 10-11 класс
A7: Курочка запеченная (голень) | B7: 75 | C7: 75 | D7: 75 | E7: голень | F7: 2300 | G7: 163 | H7: 163 | I7: 163 | J7: =F7*G7/1000 -> 374.9 | K7: =F7*H7/1000 -> 374.9 | L7: =F7*I7/1000 -> 374.9 | M7: =SUM(J7:J12) -> 422.736 | N7: =SUM(K7:K12) -> 422.736 | O7: =SUM(L7:L12) -> 422.736
E8: масло растительное | F8: 922 | G8: 3 | H8: 3 | I8: 3 | J8: =F8*G8/1000 -> 2.766 | K8: =F8*H8/1000 -> 2.766 | L8: =F8*I8/1000 -> 2.766
E9: соль йодированная | F9: 125 | G9: 1 | H9: 1 | I9: 1 | J9: =F9*G9/1000 -> 0.125 | K9: =F9*H9/1000 -> 0.125 | L9: =F9*I9/1000 -> 0.125
E10: сметана 20% | F10: 2924 | G10: 5 | H10: 5 | I10: 5 | J10: =F10*G10/1000 -> 14.62 | K10: =F10*H10/1000 -> 14.62 | L10: =F10*I10/1000 -> 14.62
E11: томатная паста | F11: 2180 | G11: 5 | H11: 5 | I11: 5 | J11: =F11*G11/1000 -> 10.9 | K11: =F11*H11/1000 -> 10.9 | L11: =F11*I11/1000 -> 10.9
E12: чеснок | F12: 3885 | G12: 5 | H12: 5 | I12: 5 | J12: =F12*G12/1000 -> 19.425 | K12: =F12*H12/1000 -> 19.425 | L12: =F12*I12/1000 -> 19.425
A13: Соус основной | B13: 20 | C13: 25 | D13: 30 | E13: масло сливочное | F13: 5704 | G13: 7 | H13: 8 | I13: 8 | J13: =F13*G13/1000 -> 39.928 | K13: =F13*H13/1000 -> 45.632 | L13: =F13*I13/1000 -> 45.632 | M13: =SUM(J13:J17) -> 108.316 | N13: =SUM(K13:K17) -> 125.567 | O13: =SUM(L13:L17) -> 139.889
E14: сметана 20% | F14: 2924 | G14: 12 | H14: 15 | I14: 18 | J14: =F14*G14/1000 -> 35.088 | K14: =F14*H14/1000 -> 43.86 | L14: =F14*I14/1000 -> 52.632
E15: мука пшеничная высшего сорта | F15: 595 | G15: 5 | H15: 6 | I15: 8 | J15: =F15*G15/1000 -> 2.975 | K15: =F15*H15/1000 -> 3.57 | L15: =F15*I15/1000 -> 4.76
E16: томатная паста | F16: 2180 | G16: 5 | H16: 6 | I16: 8 | J16: =F16*G16/1000 -> 10.9 | K16: =F16*H16/1000 -> 13.08 | L16: =F16*I16/1000 -> 17.44
E17: чеснок | F17: 3885 | G17: 5 | H17: 5 | I17: 5 | J17: =F17*G17/1000 -> 19.425 | K17: =F17*H17/1000 -> 19.425 | L17: =F17*I17/1000 -> 19.425
A18: Гарнир: гречка рассыпчатая | B18: 120 | C18: 140 | D18: 170 | E18: крупа гречневая | F18: 431 | G18: 58 | H18: 67 | I18: 81 | J18: =F18*G18/1000 -> 24.998 | K18: =F18*H18/1000 -> 28.877 | L18: =F18*I18/1000 -> 34.911 | M18: =SUM(J18:J19) -> 53.518 | N18: =SUM(K18:K19) -> 63.101 | O18: =SUM(L18:L19) -> 74.839
E19: масло сливочное | F19: 5704 | G19: 5 | H19: 6 | I19: 7 | J19: =F19*G19/1000 -> 28.52 | K19: =F19*H19/1000 -> 34.224 | L19: =F19*I19/1000 -> 39.928
A20: Чай листовой с лимоном | B20: 200 | C20: 200 | D20: 200 | E20: чай | F20: 9000 | G20: 1.5 | H20: 1.5 | I20: 1.5 | J20: =F20*G20/1000 -> 13.5 | K20: =F20*H20/1000 -> 13.5 | L20: =F20*I20/1000 -> 13.5 | M20: =SUM(J20:J23) -> 38.85 | N20: =SUM(K20:K23) -> 38.85 | O20: =SUM(L20:L23) -> 38.85
E21: сахар | F21: 465 | G21: 10 | H21: 10 | I21: 10 | J21: =F21*G21/1000 -> 4.65 | K21: =F21*H21/1000 -> 4.65 | L21: =F21*I21/1000 -> 4.65
E22: лимон | F22: 2070 | G22: 10 | H22: 10 | I22: 10 | J22: =F22*G22/1000 -> 20.7 | K22: =F22*H22/1000 -> 20.7 | L22: =F22*I22/1000 -> 20.7
E23: вода | F23: 0 | G23: 200 | H23: 200 | I23: 200 | J23: =F23*G23/1000 -> 0 | K23: =F23*H23/1000 -> 0 | L23: =F23*I23/1000 -> 0
A24: Хлеб ржано-пшеничный | B24: 20 | C24: 35 | D24: 40 | E24: хлеб ржано-пшеничный | F24: 596 | G24: 20 | H24: 35 | I24: 40 | J24: =F24*G24/1000 -> 11.92 | K24: =F24*H24/1000 -> 20.86 | L24: =F24*I24/1000 -> 23.84 | M24: =SUM(J24:J24) -> 11.92 | N24: =SUM(K24) -> 20.86 | O24: =SUM(L24) -> 23.84
A25: Калорийность, ккал
A26: Итого цена рациона | M26: =SUM(M7:M24) -> 635.34 | N26: =SUM(N7:N24) -> 671.114 | O26: =SUM(O7:O24) -> 700.154
A27: Итого цена рациона с учетом 16% НДС | M27: =M26*1.16 -> 736.9944 | N27: =N26*1.16 -> 778.49224 | O27: =O26*1.16 -> 812.17864

Sheet 4-2
A3: 4 неделя 2-й день
A5: Наименование блюд | B5: Выход блюда, г | E5: Ингредиенты блюда | F5: Цена | G5: Брутто, г | J5: Сумма | M5: Стоимость блюда
B6: 7-10 лет 1-4 класс | C6: 11-14 лет 5-9 класс | D6: 15-18 лет 10-11 класс | G6: 7-10 лет 1-4 класс | H6: 11-14 лет 5-9 класс | I6: 15-18 лет 10-11 класс | J6: 7-10 лет 1-4 класс | K6: 11-14 лет 5-9 класс | L6: 15-18 лет 10-11 класс | M6: 7-10 лет 1-4 класс | N6: 11-14 лет 5-9 класс | O6: 15-18 лет 10-11 класс
A7: Каша 4/5 злаков | B7: 200 | C7: 200 | D7: 200 | E7: хлопья 5 злаков | F7: 1500 | G7: 44 | H7: 44 | I7: 44 | J7: =F7*G7/1000 -> 66 | K7: =F7*H7/1000 -> 66 | L7: =F7*I7/1000 -> 66 | M7: =SUM(J7:J10) -> 232.508 | N7: =SUM(K7:K10) -> 232.508 | O7: =SUM(L7:L10) -> 232.508
E8: вода | F8: 0 | G8: 66 | H8: 66 | I8: 66 | J8: =F8*G8/1000 -> 0 | K8: =F8*H8/1000 -> 0 | L8: =F8*I8/1000 -> 0
E9: молоко 2,5% | F9: 826 | G9: 98 | H9: 98 | I9: 98 | J9: =F9*G9/1000 -> 80.948 | K9: =F9*H9/1000 -> 80.948 | L9: =F9*I9/1000 -> 80.948
E10: масло сливочное | F10: 5704 | G10: 15 | H10: 15 | I10: 15 | J10: =F10*G10/1000 -> 85.56 | K10: =F10*H10/1000 -> 85.56 | L10: =F10*I10/1000 -> 85.56
A11: Самса с курицей | B11: 100 | C11: 100 | D11: 100 | E11: Тесто пресное слоеное | M11: =SUM(J12:J22) -> 145.04651 | N11: =SUM(K12:K22) -> 145.04651 | O11: =SUM(L12:L22) -> 145.04651
E12: мука пшеничная высшего сорта | F12: 595 | G12: 32 | H12: 32 | I12: 32 | J12: =F12*G12/1000 -> 19.04 | K12: =F12*H12/1000 -> 19.04 | L12: =F12*I12/1000 -> 19.04
E13: маргарин | F13: 1477 | G13: 13 | H13: 13 | I13: 13 | J13: =F13*G13/1000 -> 19.201 | K13: =F13*H13/1000 -> 19.201 | L13: =F13*I13/1000 -> 19.201
E14: яйцо куриное | F14: 689 | G14: 2 | H14: 2 | I14: 2 | J14: =F14*G14/1000 -> 1.378 | K14: =F14*H14/1000 -> 1.378 | L14: =F14*I14/1000 -> 1.378
E15: соль йодированная | F15: 125 | G15: 1 | H15: 1 | I15: 1 | J15: =F15*G15/1000 -> 0.125 | K15: =F15*H15/1000 -> 0.125 | L15: =F15*I15/1000 -> 0.125
E16: кислота лимонная | F16: 4200 | G16: 0.06 | H16: 0.06 | I16: 0.06 | J16: =F16*G16/1000 -> 0.252 | K16: =F16*H16/1000 -> 0.252 | L16: =F16*I16/1000 -> 0.252
E17: вода | F17: 0 | G17: 14 | H17: 14 | I17: 14 | J17: =F17*G17/1000 -> 0 | K17: =F17*H17/1000 -> 0 | L17: =F17*I17/1000 -> 0
E18: Фарш куриный
E19: филе курицы | F19: 2300 | G19: 42 | H19: 42 | I19: 42 | J19: =F19*G19/1000 -> 96.6 | K19: =F19*H19/1000 -> 96.6 | L19: =F19*I19/1000 -> 96.6
E20: лук репчатый | F20: 211 | G20: 34 | H20: 34 | I20: 34 | J20: =F20*G20/1000 -> 7.174 | K20: =F20*H20/1000 -> 7.174 | L20: =F20*I20/1000 -> 7.174
E21: соль йодированная | F21: 125 | G21: 0.07 | H21: 0.07 | I21: 0.07 | J21: =F21*G21/1000 -> 0.00875 | K21: =F21*H21/1000 -> 0.00875 | L21: =F21*I21/1000 -> 0.00875
E22: яйцо куриное | F22: 689 | G22: 1.84 | H22: 1.84 | I22: 1.84 | J22: =F22*G22/1000 -> 1.26776 | K22: =F22*H22/1000 -> 1.26776 | L22: =F22*I22/1000 -> 1.26776
A23: Какао на молоке | B23: 200 | C23: 200 | D23: 200 | E23: какао порошок | F23: 6000 | G23: 4 | H23: 4 | I23: 4 | J23: =F23*G23/1000 -> 24 | K23: =F23*H23/1000 -> 24 | L23: =F23*I23/1000 -> 24 | M23: =SUM(J23:J26) -> 111.25 | N23: =SUM(K23:K26) -> 111.25 | O23: =SUM(L23:L26) -> 111.25
E24: молоко 2,5% | F24: 826 | G24: 100 | H24: 100 | I24: 100 | J24: =F24*G24/1000 -> 82.6 | K24: =F24*H24/1000 -> 82.6 | L24: =F24*I24/1000 -> 82.6
E25: вода | F25: 0 | G25: 110 | H25: 110 | I25: 110 | J25: =F25*G25/1000 -> 0 | K25: =F25*H25/1000 -> 0 | L25: =F25*I25/1000 -> 0
E26: сахар | F26: 465 | G26: 10 | H26: 10 | I26: 10 | J26: =F26*G26/1000 -> 4.65 | K26: =F26*H26/1000 -> 4.65 | L26: =F26*I26/1000 -> 4.65
A27: Яблоко | B27: 120 | C27: 120 | D27: 120 | E27: яблоко | F27: 819 | G27: 120 | H27: 120 | I27: 120 | J27: =F27*G27/1000 -> 98.28 | K27: =F27*H27/1000 -> 98.28 | L27: =F27*I27/1000 -> 98.28 | M27: =SUM(J27) -> 98.28 | N27: =SUM(K27) -> 98.28 | O27: =SUM(L27) -> 98.28
A28: Хлеб ржано-пшеничный | B28: 20 | C28: 35 | D28: 40 | E28: хлеб ржано-пшеничный | F28: 596 | G28: 20 | H28: 35 | I28: 40 | J28: =F28*G28/1000 -> 11.92 | K28: =F28*H28/1000 -> 20.86 | L28: =F28*I28/1000 -> 23.84 | M28: =SUM(J28:J28) -> 11.92 | N28: =SUM(K28) -> 20.86 | O28: =SUM(L28) -> 23.84
A29: Калорийность, ккал
A30: Итого цена рациона | M30: =SUM(M7:M28) -> 599.00451 | N30: =SUM(N7:N28) -> 607.94451 | O30: =SUM(O7:O28) -> 610.92451
A31: Итого цена рациона с учетом 16% НДС | M31: =M30*1.16 -> 694.84523 | N31: =N30*1.16 -> 705.21563 | O31: =O30*1.16 -> 708.67243

Sheet 4-3
A2: 4 неделя 3-й день
A4: Наименование блюд | B4: Выход блюда, г | E4: Ингредиенты блюда | F4: Цена | G4: Брутто, г | J4: Сумма | M4: Стоимость блюда
B5: 7-10 лет 1-4 класс | C5: 11-14 лет 5-9 класс | D5: 15-18 лет 10-11 класс | G5: 7-10 лет 1-4 класс | H5: 11-14 лет 5-9 класс | I5: 15-18 лет 10-11 класс | J5: 7-10 лет 1-4 класс | K5: 11-14 лет 5-9 класс | L5: 15-18 лет 10-11 класс | M5: 7-10 лет 1-4 класс | N5: 11-14 лет 5-9 класс | O5: 15-18 лет 10-11 класс
